BEGIN:VCALENDAR
VERSION:2.0
PRODID:-//Appear - ECPv6.15.12//NONSGML v1.0//EN
CALSCALE:GREGORIAN
METHOD:PUBLISH
X-WR-CALNAME:Appear
X-ORIGINAL-URL:https://www.appear.net
X-WR-CALDESC:Events for Appear
REFRESH-INTERVAL;VALUE=DURATION:PT1H
X-Robots-Tag:noindex
X-PUBLISHED-TTL:PT1H
BEGIN:VTIMEZONE
TZID:Europe/Oslo
BEGIN:DAYLIGHT
TZOFFSETFROM:+0100
TZOFFSETTO:+0200
TZNAME:CEST
DTSTART:20250330T010000
END:DAYLIGHT
BEGIN:STANDARD
TZOFFSETFROM:+0200
TZOFFSETTO:+0100
TZNAME:CET
DTSTART:20251026T010000
END:STANDARD
BEGIN:DAYLIGHT
TZOFFSETFROM:+0100
TZOFFSETTO:+0200
TZNAME:CEST
DTSTART:20260329T010000
END:DAYLIGHT
BEGIN:STANDARD
TZOFFSETFROM:+0200
TZOFFSETTO:+0100
TZNAME:CET
DTSTART:20261025T010000
END:STANDARD
BEGIN:DAYLIGHT
TZOFFSETFROM:+0100
TZOFFSETTO:+0200
TZNAME:CEST
DTSTART:20270328T010000
END:DAYLIGHT
BEGIN:STANDARD
TZOFFSETFROM:+0200
TZOFFSETTO:+0100
TZNAME:CET
DTSTART:20271031T010000
END:STANDARD
END:VTIMEZONE
BEGIN:VEVENT
DTSTART;VALUE=DATE:20260418
DTEND;VALUE=DATE:20260423
DTSTAMP:20260421T023127
CREATED:20260111T234227Z
LAST-MODIFIED:20260323T092926Z
UID:10000011-1776470400-1776902399@www.appear.net
SUMMARY:NAB Las Vegas
DESCRIPTION:Appear will be exhibiting at NAB Las Vegas. Visit us our stand to meet the team\, see our latest solutions\, and discuss how we can support your live production workflows. \nBook a meeting with us in advance or drop by the stand\, we’d love to catch up during the show!
URL:https://www.appear.net/event/nab-las-vegas/
LOCATION:Las Vegas Convention Center\, 3150 Paradise Rd\, Las Vegas\, NV\, 89109\, United States
CATEGORIES:North America
ATTACH;FMTTYPE=image/svg+xml:https://www.appear.net/content/uploads/2026/01/Untitled-design-9.svg
END:VEVENT
END:VCALENDAR