BEGIN:VCALENDAR
VERSION:2.0
PRODID:-//Appear - ECPv6.15.12//NONSGML v1.0//EN
CALSCALE:GREGORIAN
METHOD:PUBLISH
X-ORIGINAL-URL:https://www.appear.net
X-WR-CALDESC:Events for Appear
REFRESH-INTERVAL;VALUE=DURATION:PT1H
X-Robots-Tag:noindex
X-PUBLISHED-TTL:PT1H
BEGIN:VTIMEZONE
TZID:Europe/Oslo
BEGIN:DAYLIGHT
TZOFFSETFROM:+0100
TZOFFSETTO:+0200
TZNAME:CEST
DTSTART:20250330T010000
END:DAYLIGHT
BEGIN:STANDARD
TZOFFSETFROM:+0200
TZOFFSETTO:+0100
TZNAME:CET
DTSTART:20251026T010000
END:STANDARD
BEGIN:DAYLIGHT
TZOFFSETFROM:+0100
TZOFFSETTO:+0200
TZNAME:CEST
DTSTART:20260329T010000
END:DAYLIGHT
BEGIN:STANDARD
TZOFFSETFROM:+0200
TZOFFSETTO:+0100
TZNAME:CET
DTSTART:20261025T010000
END:STANDARD
BEGIN:DAYLIGHT
TZOFFSETFROM:+0100
TZOFFSETTO:+0200
TZNAME:CEST
DTSTART:20270328T010000
END:DAYLIGHT
BEGIN:STANDARD
TZOFFSETFROM:+0200
TZOFFSETTO:+0100
TZNAME:CET
DTSTART:20271031T010000
END:STANDARD
END:VTIMEZONE
BEGIN:VEVENT
DTSTART;VALUE=DATE:20260325
DTEND;VALUE=DATE:20260327
DTSTAMP:20260420T195854
CREATED:20260111T232941Z
LAST-MODIFIED:20260112T073834Z
UID:10000003-1774396800-1774569599@www.appear.net
SUMMARY:Media City Odense
DESCRIPTION:Appear will be exhibiting at Media City Odense. Visit us our stand to meet the team\, see our latest solutions\, and discuss how we can support your live production workflows. \nBook a meeting with us in advance or drop by the stand\, we’d love to catch up during the show!
URL:https://www.appear.net/event/media-city-odense/
LOCATION:Media City Odense\, Banegårdspladsen 1\, 3. sal\, Odense\, 5000\, Denmark
CATEGORIES:Europe
ATTACH;FMTTYPE=image/svg+xml:https://www.appear.net/content/uploads/2026/01/Untitled-design-8.svg
END:VEVENT
END:VCALENDAR