BEGIN:VCALENDAR
VERSION:2.0
PRODID:-//Appear - ECPv6.15.12//NONSGML v1.0//EN
CALSCALE:GREGORIAN
METHOD:PUBLISH
X-WR-CALNAME:Appear
X-ORIGINAL-URL:https://www.appear.net
X-WR-CALDESC:Events for Appear
REFRESH-INTERVAL;VALUE=DURATION:PT1H
X-Robots-Tag:noindex
X-PUBLISHED-TTL:PT1H
BEGIN:VTIMEZONE
TZID:Europe/Oslo
BEGIN:DAYLIGHT
TZOFFSETFROM:+0100
TZOFFSETTO:+0200
TZNAME:CEST
DTSTART:20250330T010000
END:DAYLIGHT
BEGIN:STANDARD
TZOFFSETFROM:+0200
TZOFFSETTO:+0100
TZNAME:CET
DTSTART:20251026T010000
END:STANDARD
BEGIN:DAYLIGHT
TZOFFSETFROM:+0100
TZOFFSETTO:+0200
TZNAME:CEST
DTSTART:20260329T010000
END:DAYLIGHT
BEGIN:STANDARD
TZOFFSETFROM:+0200
TZOFFSETTO:+0100
TZNAME:CET
DTSTART:20261025T010000
END:STANDARD
BEGIN:DAYLIGHT
TZOFFSETFROM:+0100
TZOFFSETTO:+0200
TZNAME:CEST
DTSTART:20270328T010000
END:DAYLIGHT
BEGIN:STANDARD
TZOFFSETFROM:+0200
TZOFFSETTO:+0100
TZNAME:CET
DTSTART:20271031T010000
END:STANDARD
END:VTIMEZONE
BEGIN:VEVENT
DTSTART;VALUE=DATE:20260512
DTEND;VALUE=DATE:20260516
DTSTAMP:20260420T202202
CREATED:20260111T230746Z
LAST-MODIFIED:20260112T073824Z
UID:10000005-1778544000-1778889599@www.appear.net
SUMMARY:KOBA
DESCRIPTION:Appear will be exhibiting at KOBA. Visit us our stand to meet the team\, see our latest solutions\, and discuss how we can support your live production workflows. \nBook a meeting with us in advance or drop by the stand\, we’d love to catch up during the show!
URL:https://www.appear.net/event/koba/
LOCATION:COEX Convention & Exhibition Center\, 159 Yeongdong-daero\, Seoul\, 06164\, Korea\, Republic of
CATEGORIES:Asia Pacific
ATTACH;FMTTYPE=image/svg+xml:https://www.appear.net/content/uploads/2026/01/Untitled-design-7.svg
END:VEVENT
BEGIN:VEVENT
DTSTART;VALUE=DATE:20260520
DTEND;VALUE=DATE:20260523
DTSTAMP:20260420T202202
CREATED:20260112T003057Z
LAST-MODIFIED:20260112T073811Z
UID:10000015-1779235200-1779494399@www.appear.net
SUMMARY:ATxSG
DESCRIPTION:Appear will be exhibiting at ATxSG. Visit us our stand to meet the team\, see our latest solutions\, and discuss how we can support your live production workflows. \nBook a meeting with us in advance or drop by the stand\, we’d love to catch up during the show!
URL:https://www.appear.net/event/atxsg/
LOCATION:Singapore EXPO\, 1 Expo Drive\, Singapore\, 486150\, Singapore
CATEGORIES:Asia Pacific
ATTACH;FMTTYPE=image/svg+xml:https://www.appear.net/content/uploads/2026/01/Website-Event-Logos-169.svg
END:VEVENT
BEGIN:VEVENT
DTSTART;VALUE=DATE:20261118
DTEND;VALUE=DATE:20261121
DTSTAMP:20260420T202202
CREATED:20260112T005727Z
LAST-MODIFIED:20260112T073714Z
UID:10000018-1794960000-1795219199@www.appear.net
SUMMARY:Inter BEE
DESCRIPTION:Appear will be exhibiting at Inter BEE with our partner\, IABM. Visit us our stand to meet the team\, see our latest solutions\, and discuss how we can support your live production workflows. \nBook a meeting with us in advance or drop by the stand\, we’d love to catch up during the show!
URL:https://www.appear.net/event/inter-bee/
LOCATION:Makuhari Messe\, 2-1 Nakase\, Mihama-ku\, Chiba City\, 261-8550\, Japan
CATEGORIES:Asia Pacific
ATTACH;FMTTYPE=image/svg+xml:https://www.appear.net/content/uploads/2026/01/Website-Event-Logos-169-2.svg
END:VEVENT
END:VCALENDAR