BEGIN:VCALENDAR
VERSION:2.0
PRODID:-//Appear - ECPv6.15.12//NONSGML v1.0//EN
CALSCALE:GREGORIAN
METHOD:PUBLISH
X-WR-CALNAME:Appear
X-ORIGINAL-URL:https://www.appear.net
X-WR-CALDESC:Events for Appear
REFRESH-INTERVAL;VALUE=DURATION:PT1H
X-Robots-Tag:noindex
X-PUBLISHED-TTL:PT1H
BEGIN:VTIMEZONE
TZID:Europe/Oslo
BEGIN:DAYLIGHT
TZOFFSETFROM:+0100
TZOFFSETTO:+0200
TZNAME:CEST
DTSTART:20250330T010000
END:DAYLIGHT
BEGIN:STANDARD
TZOFFSETFROM:+0200
TZOFFSETTO:+0100
TZNAME:CET
DTSTART:20251026T010000
END:STANDARD
BEGIN:DAYLIGHT
TZOFFSETFROM:+0100
TZOFFSETTO:+0200
TZNAME:CEST
DTSTART:20260329T010000
END:DAYLIGHT
BEGIN:STANDARD
TZOFFSETFROM:+0200
TZOFFSETTO:+0100
TZNAME:CET
DTSTART:20261025T010000
END:STANDARD
BEGIN:DAYLIGHT
TZOFFSETFROM:+0100
TZOFFSETTO:+0200
TZNAME:CEST
DTSTART:20270328T010000
END:DAYLIGHT
BEGIN:STANDARD
TZOFFSETFROM:+0200
TZOFFSETTO:+0100
TZNAME:CET
DTSTART:20271031T010000
END:STANDARD
END:VTIMEZONE
BEGIN:VEVENT
DTSTART;VALUE=DATE:20260602
DTEND;VALUE=DATE:20260605
DTSTAMP:20260420T201345
CREATED:20260111T212327Z
LAST-MODIFIED:20260112T073756Z
UID:10000007-1780358400-1780617599@www.appear.net
SUMMARY:CABSAT
DESCRIPTION:Appear will be exhibiting at CABSAT. Visit us our stand to meet the team\, see our latest solutions\, and discuss how we can support your live production workflows. \nBook a meeting with us in advance or drop by the stand\, we’d love to catch up during the show!
URL:https://www.appear.net/event/cabsat/
LOCATION:Dubai World Trade Centre\, Sheikh Zayed Road\, Trade Centre 2\, Dubai\, United Arab Emirates
CATEGORIES:Europe
ATTACH;FMTTYPE=image/svg+xml:https://www.appear.net/content/uploads/2026/01/Untitled-design-5.svg
END:VEVENT
BEGIN:VEVENT
DTSTART;VALUE=DATE:20260608
DTEND;VALUE=DATE:20260612
DTSTAMP:20260420T201345
CREATED:20260111T205947Z
LAST-MODIFIED:20260112T073750Z
UID:10000006-1780876800-1781222399@www.appear.net
SUMMARY:NEM Dubrovnik
DESCRIPTION:Appear will be exhibiting at NEM Dubrovnik. Visit us our stand to meet the team\, see our latest solutions\, and discuss how we can support your live production workflows. \nBook a meeting with us in advance or drop by the stand\, we’d love to catch up during the show!
URL:https://www.appear.net/event/nem-dubrovnik/
LOCATION:Hotel Dubrovnik Palace\, Masarykov put 20\, Dubrovnik\, 20000\, Croatia (Local Name: Hrvatska)
CATEGORIES:Europe
ATTACH;FMTTYPE=image/svg+xml:https://www.appear.net/content/uploads/2026/01/Untitled-design-4.svg
END:VEVENT
BEGIN:VEVENT
DTSTART;VALUE=DATE:20260911
DTEND;VALUE=DATE:20260915
DTSTAMP:20260420T201345
CREATED:20260111T235252Z
LAST-MODIFIED:20260112T073738Z
UID:10000012-1789084800-1789430399@www.appear.net
SUMMARY:IBC
DESCRIPTION:Appear will be exhibiting at IBC. Visit us our stand to meet the team\, see our latest solutions\, and discuss how we can support your live production workflows. \nBook a meeting with us in advance or drop by the stand\, we’d love to catch up during the show!
URL:https://www.appear.net/event/ibc/
LOCATION:RAI Amsterdam\, Europaplein 24\, Amsterdam\, 1078 GZ\, Netherlands
CATEGORIES:Europe
ATTACH;FMTTYPE=image/svg+xml:https://www.appear.net/content/uploads/2026/01/Untitled-design-10.svg
END:VEVENT
END:VCALENDAR